{
 "currentVersion": 10.41,
 "serviceDescription": "",
 "mapName": "Layers",
 "description": "",
 "copyrightText": "",
 "supportsDynamicLayers": false,
 "layers": [
  {
   "id": 0,
   "name": "Layers",
   "parentLayerId": -1,
   "defaultVisibility": true,
   "subLayerIds": null,
   "minScale": 0,
   "maxScale": 0
  }
 ],
 "tables": [],
 "spatialReference": {
  "wkid": 4326,
  "latestWkid": 4326
 },
 "singleFusedMapCache": true,
 "tileInfo": {
  "rows": 256,
  "cols": 256,
  "dpi": 96,
  "format": "PNG32",
  "compressionQuality": 0,
  "origin": {
   "x": -180,
   "y": 90
  },
  "spatialReference": {
   "wkid": 4326,
   "latestWkid": 4326
  },
  "lods": [
   {
    "level": 0,
    "resolution": 1.406250026231581,
    "scale": 5.909951971416692E8
   },
   {
    "level": 1,
    "resolution": 0.7031250131157905,
    "scale": 2.954975985708346E8
   },
   {
    "level": 2,
    "resolution": 0.3515625065578952,
    "scale": 1.477487992854173E8
   },
   {
    "level": 3,
    "resolution": 0.1757812532789476,
    "scale": 7.387439964270864E7
   },
   {
    "level": 4,
    "resolution": 0.0878906266394738,
    "scale": 3.693719982135432E7
   },
   {
    "level": 5,
    "resolution": 0.0439453133197369,
    "scale": 1.846859991067716E7
   },
   {
    "level": 6,
    "resolution": 0.02197265665986845,
    "scale": 9234299.95533858
   },
   {
    "level": 7,
    "resolution": 0.010986328329934226,
    "scale": 4617149.97766929
   },
   {
    "level": 8,
    "resolution": 0.005493164164967113,
    "scale": 2308574.988834645
   },
   {
    "level": 9,
    "resolution": 0.0027465820824835565,
    "scale": 1154287.4944173226
   },
   {
    "level": 10,
    "resolution": 0.0013732910412417782,
    "scale": 577143.7472086613
   },
   {
    "level": 11,
    "resolution": 6.866455206208891E-4,
    "scale": 288571.87360433064
   },
   {
    "level": 12,
    "resolution": 3.4332276031044456E-4,
    "scale": 144285.93680216532
   },
   {
    "level": 13,
    "resolution": 1.7166138015522228E-4,
    "scale": 72142.96840108266
   },
   {
    "level": 14,
    "resolution": 8.583069007761114E-5,
    "scale": 36071.48420054133
   },
   {
    "level": 15,
    "resolution": 4.291534503880557E-5,
    "scale": 18035.742100270665
   },
   {
    "level": 16,
    "resolution": 2.1457672519402785E-5,
    "scale": 9017.871050135333
   },
   {
    "level": 17,
    "resolution": 1.0728836259701392E-5,
    "scale": 4508.935525067666
   },
   {
    "level": 18,
    "resolution": 5.364418129850696E-6,
    "scale": 2254.467762533833
   },
   {
    "level": 19,
    "resolution": 2.682209064925348E-6,
    "scale": 1127.2338812669166
   },
   {
    "level": 20,
    "resolution": 1.341104532462674E-6,
    "scale": 563.6169406334583
   }
  ]
 },
 "initialExtent": {
  "xmin": 93.74995968767426,
  "ymin": 36.218507088462765,
  "xmax": 121.25042177902516,
  "ymax": 44.37965448100257,
  "spatialReference": {
   "cs": "gcs",
   "wkid": 4326
  }
 },
 "fullExtent": {
  "xmin": 94.99998069182658,
  "ymin": 31.999912521158805,
  "xmax": 120.00040077487284,
  "ymax": 41.999874560721125,
  "spatialReference": {
   "cs": "gcs",
   "wkid": 4326
  }
 },
 "minScale": 9234299.95533858,
 "maxScale": 144285.93680216532,
 "units": "esriDecimalDegrees",
 "supportedImageFormatTypes": "PNG32,PNG24,PNG,JPG,DIB,TIFF,EMF,PS,PDF,GIF,SVG,SVGZ,BMP",
 "documentInfo": {
  "Title": "黄河流域地貌晕渲图",
  "Author": "",
  "Comments": "",
  "Subject": "",
  "Category": "",
  "AntialiasingMode": "None",
  "TextAntialiasingMode": "Force",
  "Keywords": ""
 },
 "capabilities": "Map,Query,Data",
 "supportedQueryFormats": "JSON, AMF, geoJSON",
 "exportTilesAllowed": false,
 "maxRecordCount": 1000,
 "maxImageHeight": 4096,
 "maxImageWidth": 4096,
 "supportedExtensions": "WMSServer"
}
