View In:
ArcGIS JavaScript
ArcGIS Online map viewer
Google Earth
ArcMap
ArcGIS Explorer
View Footprint In:
ArcGIS Online map viewer
Service Description:
Map Name: Layers
Legend
All Layers and Tables
Layers:
Description:
Copyright Text:
Spatial Reference:
4326
(4326)
Single Fused Map Cache: true
Tile Info:
- Height: 256
- Width: 256
- DPI: 96
-
Levels of Detail: 21
-
Level ID: 0
[ Start Tile, End Tile ]
- Resolution: 1.406250026231581
- Scale: 5.909951971416692E8
-
Level ID: 1
[ Start Tile, End Tile ]
- Resolution: 0.7031250131157905
- Scale: 2.954975985708346E8
-
Level ID: 2
[ Start Tile, End Tile ]
- Resolution: 0.3515625065578952
- Scale: 1.477487992854173E8
-
Level ID: 3
[ Start Tile, End Tile ]
- Resolution: 0.1757812532789476
- Scale: 7.387439964270864E7
-
Level ID: 4
[ Start Tile, End Tile ]
- Resolution: 0.0878906266394738
- Scale: 3.693719982135432E7
-
Level ID: 5
[ Start Tile, End Tile ]
- Resolution: 0.0439453133197369
- Scale: 1.846859991067716E7
-
Level ID: 6
[ Start Tile, End Tile ]
- Resolution: 0.02197265665986845
- Scale: 9234299.95533858
-
Level ID: 7
[ Start Tile, End Tile ]
- Resolution: 0.010986328329934226
- Scale: 4617149.97766929
-
Level ID: 8
[ Start Tile, End Tile ]
- Resolution: 0.005493164164967113
- Scale: 2308574.988834645
-
Level ID: 9
[ Start Tile, End Tile ]
- Resolution: 0.0027465820824835565
- Scale: 1154287.4944173226
-
Level ID: 10
[ Start Tile, End Tile ]
- Resolution: 0.0013732910412417782
- Scale: 577143.7472086613
-
Level ID: 11
[ Start Tile, End Tile ]
- Resolution: 6.866455206208891E-4
- Scale: 288571.87360433064
-
Level ID: 12
[ Start Tile, End Tile ]
- Resolution: 3.4332276031044456E-4
- Scale: 144285.93680216532
-
Level ID: 13
[ Start Tile, End Tile ]
- Resolution: 1.7166138015522228E-4
- Scale: 72142.96840108266
-
Level ID: 14
[ Start Tile, End Tile ]
- Resolution: 8.583069007761114E-5
- Scale: 36071.48420054133
-
Level ID: 15
[ Start Tile, End Tile ]
- Resolution: 4.291534503880557E-5
- Scale: 18035.742100270665
-
Level ID: 16
[ Start Tile, End Tile ]
- Resolution: 2.1457672519402785E-5
- Scale: 9017.871050135333
-
Level ID: 17
[ Start Tile, End Tile ]
- Resolution: 1.0728836259701392E-5
- Scale: 4508.935525067666
-
Level ID: 18
[ Start Tile, End Tile ]
- Resolution: 5.364418129850696E-6
- Scale: 2254.467762533833
-
Level ID: 19
[ Start Tile, End Tile ]
- Resolution: 2.682209064925348E-6
- Scale: 1127.2338812669166
-
Level ID: 20
[ Start Tile, End Tile ]
- Resolution: 1.341104532462674E-6
- Scale: 563.6169406334583
- Format: PNG32
- Compression Quality: 0.0
- Origin: X: -180.0
Y: 90.0
- Spatial Reference: 4326
(4326)
Initial Extent:
XMin: 93.74995968767426
YMin: 36.218507088462765
XMax: 121.25042177902516
YMax: 44.37965448100257
Spatial Reference: 4326
(4326)
Full Extent:
XMin: 94.99998069182658
YMin: 31.999912521158805
XMax: 120.00040077487284
YMax: 41.999874560721125
Spatial Reference: 4326
(4326)
Units: esriDecimalDegrees
Supported Image Format Types: PNG32,PNG24,PNG,JPG,DIB,TIFF,EMF,PS,PDF,GIF,SVG,SVGZ,BMP
Document Info:
Title: 黄河流域地貌晕渲图
Author:
Comments:
Subject:
Category:
Keywords:
AntialiasingMode: None
TextAntialiasingMode: Force
Supports Dynamic Layers: false
MaxRecordCount: 1000
MaxImageHeight: 4096
MaxImageWidth: 4096
Supported Query Formats: JSON, AMF, geoJSON
Min Scale: 9234299.95533858
Max Scale: 144285.93680216532
Child Resources:
Info
Supported Operations:
Export Map
Identify
Find
Return Updates