View In:
ArcGIS JavaScript
ArcGIS Online map viewer
Google Earth
ArcMap
ArcGIS Explorer
View Footprint In:
ArcGIS Online map viewer
Service Description:
Map Name: Layers
Legend
All Layers and Tables
Dynamic Legend
Dynamic All Layers
Layers:
-
L12(1:144,447.93) (0)
-
L11(1:288,895.85) (71)
-
L10(1:577,791.71) (142)
-
L9(1:1,155,583.42) (205)
-
L8(1:2,311,166.84) (245)
-
L7(1:4,622,333.68) (274)
-
L6(1:9,244,667.36) (294)
Description:
Copyright Text:
Spatial Reference:
4326
(4326)
Single Fused Map Cache: true
Tile Info:
- Height: 256
- Width: 256
- DPI: 96
-
Levels of Detail: 24
-
Level ID: 0
[ Start Tile, End Tile ]
- Resolution: 1.4078260157100582
- Scale: 5.91657527591555E8
-
Level ID: 1
[ Start Tile, End Tile ]
- Resolution: 0.703913007855028
- Scale: 2.95828763795777E8
-
Level ID: 2
[ Start Tile, End Tile ]
- Resolution: 0.35195650392751515
- Scale: 1.47914381897889E8
-
Level ID: 3
[ Start Tile, End Tile ]
- Resolution: 0.17597825196375638
- Scale: 7.3957190948944E7
-
Level ID: 4
[ Start Tile, End Tile ]
- Resolution: 0.08798912598187819
- Scale: 3.6978595474472E7
-
Level ID: 5
[ Start Tile, End Tile ]
- Resolution: 0.043994562990939096
- Scale: 1.8489297737236E7
-
Level ID: 6
[ Start Tile, End Tile ]
- Resolution: 0.021997281495469548
- Scale: 9244648.868618
-
Level ID: 7
[ Start Tile, End Tile ]
- Resolution: 0.010998640747734774
- Scale: 4622324.434309
-
Level ID: 8
[ Start Tile, End Tile ]
- Resolution: 0.005499320373868577
- Scale: 2311162.217155
-
Level ID: 9
[ Start Tile, End Tile ]
- Resolution: 0.0027496601869330985
- Scale: 1155581.108577
-
Level ID: 10
[ Start Tile, End Tile ]
- Resolution: 0.001374830093467739
- Scale: 577790.554289
-
Level ID: 11
[ Start Tile, End Tile ]
- Resolution: 6.874150467326798E-4
- Scale: 288895.277144
-
Level ID: 12
[ Start Tile, End Tile ]
- Resolution: 3.437075233663399E-4
- Scale: 144447.638572
-
Level ID: 13
[ Start Tile, End Tile ]
- Resolution: 1.7185376168316996E-4
- Scale: 72223.819286
-
Level ID: 14
[ Start Tile, End Tile ]
- Resolution: 8.592688084158498E-5
- Scale: 36111.909643
-
Level ID: 15
[ Start Tile, End Tile ]
- Resolution: 4.296344042198222E-5
- Scale: 18055.954822
-
Level ID: 17
[ Start Tile, End Tile ]
- Resolution: 1.0740860104305824E-5
- Scale: 4513.988705
-
Level ID: 18
[ Start Tile, End Tile ]
- Resolution: 5.3704300533426425E-6
- Scale: 2256.994353
- Format: PNG32
- Compression Quality: 0.0
- Origin: X: -180.0
Y: 90.0
- Spatial Reference: 4326
(4326)
Initial Extent:
XMin: 92.92283801475006
YMin: 33.87457920378621
XMax: 121.73958261425011
YMax: 43.74924217403834
Spatial Reference: 4326
Full Extent:
XMin: 94.23269004200006
YMin: 31.34727495800007
XMax: 120.42973058700011
YMax: 42.72842607500007
Spatial Reference: 4326
Units: esriDecimalDegrees
Supported Image Format Types: PNG32,PNG24,PNG,JPG,DIB,TIFF,EMF,PS,PDF,GIF,SVG,SVGZ,BMP
Document Info:
Title: 黄河流域地貌晕渲图
Author:
Comments:
Subject:
Category:
Keywords:
AntialiasingMode: Best
TextAntialiasingMode: Force
Supports Dynamic Layers: true
MaxRecordCount: 1000
MaxImageHeight: 4096
MaxImageWidth: 4096
Supported Query Formats: JSON, AMF, geoJSON
Min Scale: 9244648.868618
Max Scale: 144447.638572
Child Resources:
Info
Dynamic Layer
Supported Operations:
Export Map
Identify
Find
Return Updates