{
 "currentVersion": 10.41,
 "serviceDescription": "黄河流域晕渲图",
 "mapName": "Layers",
 "description": "",
 "copyrightText": "",
 "supportsDynamicLayers": false,
 "layers": [
  {
   "id": 0,
   "name": "hhly15.img",
   "parentLayerId": -1,
   "defaultVisibility": true,
   "subLayerIds": null,
   "minScale": 288895.85,
   "maxScale": 0
  },
  {
   "id": 1,
   "name": "hhly90.img",
   "parentLayerId": -1,
   "defaultVisibility": true,
   "subLayerIds": null,
   "minScale": 0,
   "maxScale": 300000
  }
 ],
 "tables": [],
 "spatialReference": {
  "wkid": 4326,
  "latestWkid": 4326
 },
 "singleFusedMapCache": true,
 "tileInfo": {
  "rows": 256,
  "cols": 256,
  "dpi": 192,
  "format": "PNG32",
  "compressionQuality": 0,
  "origin": {
   "x": -180,
   "y": 90
  },
  "spatialReference": {
   "wkid": 4326,
   "latestWkid": 4326
  },
  "lods": [
   {
    "level": 0,
    "resolution": 0.7039130078550291,
    "scale": 5.91657527591555E8
   },
   {
    "level": 1,
    "resolution": 0.351956503927514,
    "scale": 2.95828763795777E8
   },
   {
    "level": 2,
    "resolution": 0.17597825196375758,
    "scale": 1.47914381897889E8
   },
   {
    "level": 3,
    "resolution": 0.08798912598187819,
    "scale": 7.3957190948944E7
   },
   {
    "level": 4,
    "resolution": 0.043994562990939096,
    "scale": 3.6978595474472E7
   },
   {
    "level": 5,
    "resolution": 0.021997281495469548,
    "scale": 1.8489297737236E7
   },
   {
    "level": 6,
    "resolution": 0.010998640747734774,
    "scale": 9244648.868618
   },
   {
    "level": 7,
    "resolution": 0.005499320373867387,
    "scale": 4622324.434309
   },
   {
    "level": 8,
    "resolution": 0.0027496601869342885,
    "scale": 2311162.217155
   },
   {
    "level": 9,
    "resolution": 0.0013748300934665492,
    "scale": 1155581.108577
   },
   {
    "level": 10,
    "resolution": 6.874150467338695E-4,
    "scale": 577790.554289
   },
   {
    "level": 11,
    "resolution": 3.437075233663399E-4,
    "scale": 288895.277144
   },
   {
    "level": 12,
    "resolution": 1.7185376168316996E-4,
    "scale": 144447.638572
   },
   {
    "level": 13,
    "resolution": 8.592688084158498E-5,
    "scale": 72223.819286
   },
   {
    "level": 14,
    "resolution": 4.296344042079249E-5,
    "scale": 36111.909643
   },
   {
    "level": 15,
    "resolution": 2.148172021099111E-5,
    "scale": 18055.954822
   },
   {
    "level": 16,
    "resolution": 1.0740860105495554E-5,
    "scale": 9027.977411
   },
   {
    "level": 17,
    "resolution": 5.370430052152912E-6,
    "scale": 4513.988705
   },
   {
    "level": 18,
    "resolution": 2.6852150266713213E-6,
    "scale": 2256.994353
   },
   {
    "level": 19,
    "resolution": 1.3426075127407955E-6,
    "scale": 1128.497176
   },
   {
    "level": 20,
    "resolution": 6.713037563703978E-7,
    "scale": 564.248588
   },
   {
    "level": 21,
    "resolution": 3.356518781851989E-7,
    "scale": 282.124294
   },
   {
    "level": 22,
    "resolution": 1.6782593909259944E-7,
    "scale": 141.062147
   },
   {
    "level": 23,
    "resolution": 8.391297014116496E-8,
    "scale": 70.531074
   }
  ]
 },
 "initialExtent": {
  "xmin": 91.86937567628574,
  "ymin": 34.81372928453514,
  "xmax": 123.13813124892182,
  "ymax": 44.338412553815076,
  "spatialReference": {
   "cs": "gcs",
   "wkid": 4326
  }
 },
 "fullExtent": {
  "xmin": 94.97583679593725,
  "ymin": 31.99993055510055,
  "xmax": 120.03167012927031,
  "ymax": 42.00006944363916,
  "spatialReference": {
   "cs": "gcs",
   "wkid": 4326
  }
 },
 "minScale": 1.8489297737236E7,
 "maxScale": 144447.638572,
 "units": "esriDecimalDegrees",
 "supportedImageFormatTypes": "PNG32,PNG24,PNG,JPG,DIB,TIFF,EMF,PS,PDF,GIF,SVG,SVGZ,BMP",
 "documentInfo": {
  "Title": "黄河流域晕渲图",
  "Author": "",
  "Comments": "黄河流域晕渲图",
  "Subject": "黄河流域晕渲图",
  "Category": "",
  "AntialiasingMode": "Best",
  "TextAntialiasingMode": "Force",
  "Keywords": ""
 },
 "capabilities": "Map,Query,Data",
 "supportedQueryFormats": "JSON, AMF, geoJSON",
 "exportTilesAllowed": false,
 "maxRecordCount": 1000,
 "maxImageHeight": 4096,
 "maxImageWidth": 4096,
 "supportedExtensions": ""
}
