{
 "currentVersion": 10.41,
 "serviceDescription": "",
 "mapName": "图层",
 "description": "",
 "copyrightText": "",
 "supportsDynamicLayers": false,
 "layers": [
  {
   "id": 0,
   "name": "YRGP_HTGQ_XSYC5_20220603.tif",
   "parentLayerId": -1,
   "defaultVisibility": true,
   "subLayerIds": null,
   "minScale": 0,
   "maxScale": 0
  }
 ],
 "tables": [],
 "spatialReference": {
  "wkid": 4326,
  "latestWkid": 4326
 },
 "singleFusedMapCache": true,
 "tileInfo": {
  "rows": 256,
  "cols": 256,
  "dpi": 96,
  "format": "PNG32",
  "compressionQuality": 0,
  "origin": {
   "x": -180,
   "y": 90
  },
  "spatialReference": {
   "wkid": 4326,
   "latestWkid": 4326
  },
  "lods": [
   {
    "level": 0,
    "resolution": 0.7039130078552128,
    "scale": 2.958287637958547E8
   },
   {
    "level": 1,
    "resolution": 0.3519565039276064,
    "scale": 1.4791438189792734E8
   },
   {
    "level": 2,
    "resolution": 0.1759782519638032,
    "scale": 7.395719094896367E7
   },
   {
    "level": 3,
    "resolution": 0.0879891259819016,
    "scale": 3.6978595474481836E7
   },
   {
    "level": 4,
    "resolution": 0.0439945629909508,
    "scale": 1.8489297737240918E7
   },
   {
    "level": 5,
    "resolution": 0.0219972814954754,
    "scale": 9244648.868620459
   },
   {
    "level": 6,
    "resolution": 0.0109986407477377,
    "scale": 4622324.4343102295
   },
   {
    "level": 7,
    "resolution": 0.00549932037386885,
    "scale": 2311162.2171551147
   },
   {
    "level": 8,
    "resolution": 0.002749660186934425,
    "scale": 1155581.1085775574
   },
   {
    "level": 9,
    "resolution": 0.0013748300934672125,
    "scale": 577790.5542887787
   },
   {
    "level": 10,
    "resolution": 6.874150467336063E-4,
    "scale": 288895.27714438934
   },
   {
    "level": 11,
    "resolution": 3.4370752336680314E-4,
    "scale": 144447.63857219467
   },
   {
    "level": 12,
    "resolution": 1.7185376168340157E-4,
    "scale": 72223.81928609734
   },
   {
    "level": 13,
    "resolution": 8.592688084170078E-5,
    "scale": 36111.90964304867
   },
   {
    "level": 14,
    "resolution": 4.296344042085039E-5,
    "scale": 18055.954821524334
   },
   {
    "level": 15,
    "resolution": 2.1481720210425196E-5,
    "scale": 9027.977410762167
   },
   {
    "level": 16,
    "resolution": 1.0740860105212598E-5,
    "scale": 4513.9887053810835
   },
   {
    "level": 17,
    "resolution": 5.370430052606299E-6,
    "scale": 2256.9943526905417
   },
   {
    "level": 18,
    "resolution": 2.6852150263031495E-6,
    "scale": 1128.4971763452709
   },
   {
    "level": 19,
    "resolution": 1.3426075131515748E-6,
    "scale": 564.2485881726354
   },
   {
    "level": 20,
    "resolution": 6.713037565757874E-7,
    "scale": 282.1242940863177
   },
   {
    "level": 21,
    "resolution": 3.356518782878937E-7,
    "scale": 141.06214704315886
   },
   {
    "level": 22,
    "resolution": 1.6782593914394684E-7,
    "scale": 70.53107352157943
   }
  ]
 },
 "initialExtent": {
  "xmin": 106.61635419100008,
  "ymin": 40.14109214020537,
  "xmax": 109.05852777100006,
  "ymax": 41.67841306720156,
  "spatialReference": {
   "cs": "gcs",
   "wkid": 4326
  }
 },
 "fullExtent": {
  "xmin": 106.72736208100008,
  "ymin": 40.29806332800003,
  "xmax": 108.94751988100008,
  "ymax": 41.30374072800004,
  "spatialReference": {
   "cs": "gcs",
   "wkid": 4326
  }
 },
 "minScale": 4622324.4343102295,
 "maxScale": 4513.9887053810835,
 "units": "esriDecimalDegrees",
 "supportedImageFormatTypes": "PNG32,PNG24,PNG,JPG,DIB,TIFF,EMF,PS,PDF,GIF,SVG,SVGZ,BMP",
 "documentInfo": {
  "Title": "",
  "Author": "",
  "Comments": "",
  "Subject": "",
  "Category": "",
  "AntialiasingMode": "None",
  "TextAntialiasingMode": "Force",
  "Keywords": ""
 },
 "capabilities": "Map,Query,Data",
 "supportedQueryFormats": "JSON, AMF, geoJSON",
 "exportTilesAllowed": false,
 "maxRecordCount": 1000,
 "maxImageHeight": 4096,
 "maxImageWidth": 4096,
 "supportedExtensions": ""
}
