View In:
ArcGIS JavaScript
ArcGIS Online map viewer
Google Earth
ArcMap
ArcGIS Explorer
View Footprint In:
ArcGIS Online map viewer
Service Description:
Map Name: 图层
Legend
All Layers and Tables
Layers:
Description:
Copyright Text:
Spatial Reference:
4326
(4326)
Single Fused Map Cache: true
Tile Info:
- Height: 256
- Width: 256
- DPI: 96
-
Levels of Detail: 23
-
Level ID: 0
[ Start Tile, End Tile ]
- Resolution: 0.7039130078552128
- Scale: 2.958287637958547E8
-
Level ID: 1
[ Start Tile, End Tile ]
- Resolution: 0.3519565039276064
- Scale: 1.4791438189792734E8
-
Level ID: 2
[ Start Tile, End Tile ]
- Resolution: 0.1759782519638032
- Scale: 7.395719094896367E7
-
Level ID: 3
[ Start Tile, End Tile ]
- Resolution: 0.0879891259819016
- Scale: 3.6978595474481836E7
-
Level ID: 4
[ Start Tile, End Tile ]
- Resolution: 0.0439945629909508
- Scale: 1.8489297737240918E7
-
Level ID: 5
[ Start Tile, End Tile ]
- Resolution: 0.0219972814954754
- Scale: 9244648.868620459
-
Level ID: 6
[ Start Tile, End Tile ]
- Resolution: 0.0109986407477377
- Scale: 4622324.4343102295
-
Level ID: 7
[ Start Tile, End Tile ]
- Resolution: 0.00549932037386885
- Scale: 2311162.2171551147
-
Level ID: 8
[ Start Tile, End Tile ]
- Resolution: 0.002749660186934425
- Scale: 1155581.1085775574
-
Level ID: 9
[ Start Tile, End Tile ]
- Resolution: 0.0013748300934672125
- Scale: 577790.5542887787
-
Level ID: 10
[ Start Tile, End Tile ]
- Resolution: 6.874150467336063E-4
- Scale: 288895.27714438934
-
Level ID: 11
[ Start Tile, End Tile ]
- Resolution: 3.4370752336680314E-4
- Scale: 144447.63857219467
-
Level ID: 12
[ Start Tile, End Tile ]
- Resolution: 1.7185376168340157E-4
- Scale: 72223.81928609734
-
Level ID: 13
[ Start Tile, End Tile ]
- Resolution: 8.592688084170078E-5
- Scale: 36111.90964304867
-
Level ID: 14
[ Start Tile, End Tile ]
- Resolution: 4.296344042085039E-5
- Scale: 18055.954821524334
-
Level ID: 15
[ Start Tile, End Tile ]
- Resolution: 2.1481720210425196E-5
- Scale: 9027.977410762167
-
Level ID: 16
[ Start Tile, End Tile ]
- Resolution: 1.0740860105212598E-5
- Scale: 4513.9887053810835
-
Level ID: 17
[ Start Tile, End Tile ]
- Resolution: 5.370430052606299E-6
- Scale: 2256.9943526905417
-
Level ID: 18
[ Start Tile, End Tile ]
- Resolution: 2.6852150263031495E-6
- Scale: 1128.4971763452709
-
Level ID: 19
[ Start Tile, End Tile ]
- Resolution: 1.3426075131515748E-6
- Scale: 564.2485881726354
-
Level ID: 20
[ Start Tile, End Tile ]
- Resolution: 6.713037565757874E-7
- Scale: 282.1242940863177
-
Level ID: 21
[ Start Tile, End Tile ]
- Resolution: 3.356518782878937E-7
- Scale: 141.06214704315886
-
Level ID: 22
[ Start Tile, End Tile ]
- Resolution: 1.6782593914394684E-7
- Scale: 70.53107352157943
- Format: PNG32
- Compression Quality: 0.0
- Origin: X: -180.0
Y: 90.0
- Spatial Reference: 4326
(4326)
Initial Extent:
XMin: 106.54275337451875
YMin: 41.14941129578837
XMax: 109.7192849065672
YMax: 41.67428349815418
Spatial Reference: 4326
(4326)
Full Extent:
XMin: 95.87763999300006
YMin: 32.01080763900006
XMax: 119.9999997110001
YMax: 41.84081998700003
Spatial Reference: 4326
(4326)
Units: esriDecimalDegrees
Supported Image Format Types: PNG32,PNG24,PNG,JPG,DIB,TIFF,EMF,PS,PDF,GIF,SVG,SVGZ,BMP
Document Info:
Title:
Author:
Comments:
Subject:
Category:
Keywords:
AntialiasingMode: Best
TextAntialiasingMode: Force
Supports Dynamic Layers: false
MaxRecordCount: 1000
MaxImageHeight: 4096
MaxImageWidth: 4096
Supported Query Formats: JSON, AMF, geoJSON
Min Scale: 2.958287637958547E8
Max Scale: 70.53107352157943
Child Resources:
Info
Supported Operations:
Export Map
Identify
Find
Return Updates